BEGIN:VCALENDAR
VERSION:2.0
PRODID:-//AudioTheme 2.3.8
BEGIN:VEVENT
UID:urn:uuid:ee948804-c911-4a7f-be2e-b441e733ce5d
URL:https://mitchmcvicker.com/concerts/gig-1664/
DTSTART;VALUE=DATE:20110429
SUMMARY:Community Bible Church
LOCATION:Community Bible Church\, Pierre\, SD
END:VEVENT
END:VCALENDAR
