BEGIN:VCALENDAR
VERSION:2.0
PRODID:-//AudioTheme 2.3.8
BEGIN:VEVENT
UID:urn:uuid:ba5e1ba6-df64-444d-8ed9-de1fd3eacc3b
URL:https://mitchmcvicker.com/concerts/gig-1662/
DTSTART;VALUE=DATE:20110428
SUMMARY:Countryside Christian Church
LOCATION:Countryside Christian Church\, Kearney\, NE
END:VEVENT
END:VCALENDAR
