BEGIN:VCALENDAR
VERSION:2.0
PRODID:-//AudioTheme 2.3.8
BEGIN:VEVENT
UID:urn:uuid:16fcde53-e556-4a0c-8afb-f7e0c7ee6e12
URL:https://mitchmcvicker.com/concerts/gig-1660/
DTSTART;VALUE=DATE:20110427
SUMMARY:Cornerstone Fellowship
LOCATION:Cornerstone Fellowship\, McCook\, NE
END:VEVENT
END:VCALENDAR
