BEGIN:VCALENDAR
VERSION:2.0
PRODID:-//AudioTheme 2.3.8
BEGIN:VEVENT
UID:urn:uuid:8edfa357-cba2-462d-a391-57ee5b7855e5
URL:https://mitchmcvicker.com/concerts/gig-1658/
DTSTART;VALUE=DATE:20110426
SUMMARY:Evangelical Covenant Church
LOCATION:Evangelical Covenant Church\, Des Moines\, IA
END:VEVENT
END:VCALENDAR
