BEGIN:VCALENDAR
VERSION:2.0
PRODID:-//AudioTheme 2.3.8
BEGIN:VEVENT
UID:urn:uuid:9f4d9623-95d0-41e6-bab8-3aef20c7bd7d
URL:https://mitchmcvicker.com/concerts/gig-1656/
DTSTART;VALUE=DATE:20110409
SUMMARY:Balor Arts Centre
LOCATION:Balor Arts Centre\, Donegal\, Ireland
END:VEVENT
END:VCALENDAR
