BEGIN:VCALENDAR
VERSION:2.0
PRODID:-//AudioTheme 2.3.8
BEGIN:VEVENT
UID:urn:uuid:273c00c6-d5be-4800-bee5-c37276dcb611
URL:https://mitchmcvicker.com/concerts/gig-1654/
DTSTART;VALUE=DATE:20110407
SUMMARY:Exodus Coleraine
LOCATION:Exodus Coleraine\, Coleraine\, Northern Ireland
END:VEVENT
END:VCALENDAR
