BEGIN:VCALENDAR
VERSION:2.0
PRODID:-//AudioTheme 2.3.8
BEGIN:VEVENT
UID:urn:uuid:9e44ac16-0a27-4b6f-ad21-4b85839941a4
URL:https://mitchmcvicker.com/concerts/gig-1652/
DTSTART;VALUE=DATE:20110404
SUMMARY:Queens University-Belfast Student Union
LOCATION:Queens University-Belfast Student Union\, Belfast\, Northern Ireland
END:VEVENT
END:VCALENDAR
