BEGIN:VCALENDAR
VERSION:2.0
PRODID:-//AudioTheme 2.3.8
BEGIN:VEVENT
UID:urn:uuid:e062c50b-ff66-43cc-bb1f-5ed1c1944b5d
URL:https://mitchmcvicker.com/concerts/gig-1650/
DTSTART;VALUE=DATE:20110403
SUMMARY:Lucan Presbyterian Church
LOCATION:Lucan Presbyterian Church\, Dublin\, Ireland
END:VEVENT
END:VCALENDAR
