BEGIN:VCALENDAR
VERSION:2.0
PRODID:-//AudioTheme 2.3.8
BEGIN:VEVENT
UID:urn:uuid:2efe2312-f62e-4569-83bc-640d30bf569f
URL:https://mitchmcvicker.com/concerts/gig-1649/
DTSTART;VALUE=DATE:20110402
SUMMARY:Fitzroy Presbyterian Church
LOCATION:Fitzroy Presbyterian Church\, Belfast\, Northern Ireland
END:VEVENT
END:VCALENDAR
