BEGIN:VCALENDAR
VERSION:2.0
PRODID:-//AudioTheme 2.3.8
BEGIN:VEVENT
UID:urn:uuid:5400e35c-db46-4ac9-b10e-ff649ad76faf
URL:https://mitchmcvicker.com/concerts/gig-1648/
DTSTART;VALUE=DATE:20110327
SUMMARY:Upper Room Theater
LOCATION:Upper Room Theater\, Holland\, MI
END:VEVENT
END:VCALENDAR
