BEGIN:VCALENDAR
VERSION:2.0
PRODID:-//AudioTheme 2.3.8
BEGIN:VEVENT
UID:urn:uuid:346819ca-f0e8-4bdf-9887-8237b1e6cf59
URL:https://mitchmcvicker.com/concerts/gig-1645/
DTSTART;VALUE=DATE:20110325
SUMMARY:First Baptist Church-Maryville
LOCATION:First Baptist Church-Maryville\, Maryville\, TN
END:VEVENT
END:VCALENDAR
