BEGIN:VCALENDAR
VERSION:2.0
PRODID:-//AudioTheme 2.3.8
BEGIN:VEVENT
UID:urn:uuid:0b7bb649-e2f3-4521-9b50-76952deca590
URL:https://mitchmcvicker.com/concerts/gig-1644/
DTSTART;VALUE=DATE:20110324
SUMMARY:Grace and Truth Church
LOCATION:Grace and Truth Church\, 515 University Blvd.\, Birmingham\, AL
END:VEVENT
END:VCALENDAR
