BEGIN:VCALENDAR
VERSION:2.0
PRODID:-//AudioTheme 2.3.8
BEGIN:VEVENT
UID:urn:uuid:1a4042ec-9463-4abc-adf2-780a572b427d
URL:https://mitchmcvicker.com/concerts/gig-1632/
DTSTART;VALUE=DATE:20110220
SUMMARY:Hill Country Bible Church
LOCATION:Hill Country Bible Church\, Leander\, TX
END:VEVENT
END:VCALENDAR
