BEGIN:VCALENDAR
VERSION:2.0
PRODID:-//AudioTheme 2.3.8
BEGIN:VEVENT
UID:urn:uuid:3da96baa-207a-4586-8640-6d4a18ea99f2
URL:https://mitchmcvicker.com/concerts/gig-1628/
DTSTART;VALUE=DATE:20110217
SUMMARY:Vincennes University Campus Christian Fellowship
LOCATION:Vincennes University Campus Christian Fellowship\, Vincennes\, IN
END:VEVENT
END:VCALENDAR
