BEGIN:VCALENDAR
VERSION:2.0
PRODID:-//AudioTheme 2.3.8
BEGIN:VEVENT
UID:urn:uuid:a22bf9c8-2fb7-4f61-b20b-68746ff94401
URL:https://mitchmcvicker.com/concerts/gig-1627/
DTSTART;VALUE=DATE:20110216
SUMMARY:Nettleton Baptist Church
LOCATION:Nettleton Baptist Church\, Jonesboro\, AR
END:VEVENT
END:VCALENDAR
