BEGIN:VCALENDAR
VERSION:2.0
PRODID:-//AudioTheme 2.3.8
BEGIN:VEVENT
UID:urn:uuid:1710d604-e427-4674-a15c-85054a06128a
URL:https://mitchmcvicker.com/concerts/gig-1625/
DTSTART;VALUE=DATE:20120629
SUMMARY:Next Step Camp/Evangel Assembly of God
LOCATION:Next Step Camp/Evangel Assembly of God\, Milwaukee\, WI
END:VEVENT
END:VCALENDAR
