BEGIN:VCALENDAR
VERSION:2.0
PRODID:-//AudioTheme 2.3.8
BEGIN:VEVENT
UID:urn:uuid:a3139a76-c9b1-4fa2-b644-9c8adfbea5be
URL:https://mitchmcvicker.com/concerts/gig-1622/
DTSTART;VALUE=DATE:20121202
SUMMARY:Cornerstone Church
LOCATION:Cornerstone Church\, Trafalgar\, IN
END:VEVENT
END:VCALENDAR
