BEGIN:VCALENDAR
VERSION:2.0
PRODID:-//AudioTheme 2.3.8
BEGIN:VEVENT
UID:urn:uuid:9ada3084-51b9-460f-b9b5-ecf4d0b3170c
URL:https://mitchmcvicker.com/concerts/gig-1621/
DTSTART;VALUE=DATE:20121202
SUMMARY:Westchester United Methodist Church
LOCATION:Westchester United Methodist Church\, Portland\, IN
END:VEVENT
END:VCALENDAR
