BEGIN:VCALENDAR
VERSION:2.0
PRODID:-//AudioTheme 2.3.8
BEGIN:VEVENT
UID:urn:uuid:8beebf3d-eecf-42c8-9a88-851b29e34649
URL:https://mitchmcvicker.com/concerts/gig-1619/
DTSTART;VALUE=DATE:20121201
SUMMARY:Lindberg Road Church of Christ
LOCATION:Lindberg Road Church of Christ\, Anderson\, IN
END:VEVENT
END:VCALENDAR
