BEGIN:VCALENDAR
VERSION:2.0
PRODID:-//AudioTheme 2.3.8
BEGIN:VEVENT
UID:urn:uuid:0aa1d413-d699-4b98-8721-f1b2eaba358e
URL:https://mitchmcvicker.com/concerts/gig-1615/
DTSTART;VALUE=DATE:20121129
SUMMARY:Covenant Christian Church
LOCATION:Covenant Christian Church\, Crawfordsville\, IN
END:VEVENT
END:VCALENDAR
