BEGIN:VCALENDAR
VERSION:2.0
PRODID:-//AudioTheme 2.3.8
BEGIN:VEVENT
UID:urn:uuid:c9348415-5cb5-4e36-acc6-c2a032013aa7
URL:https://mitchmcvicker.com/concerts/gig-1614/
DTSTART;VALUE=DATE:20121128
SUMMARY:Windsor United Methodist Church
LOCATION:Windsor United Methodist Church\, Windsor\, IL
END:VEVENT
END:VCALENDAR
