BEGIN:VCALENDAR
VERSION:2.0
PRODID:-//AudioTheme 2.3.8
BEGIN:VEVENT
UID:urn:uuid:9ff2c896-b147-4d0b-be07-015fa4209c25
URL:https://mitchmcvicker.com/concerts/gig-1613/
DTSTART;VALUE=DATE:20121127
SUMMARY:Muncie Alliance Church
LOCATION:Muncie Alliance Church\, Muncie\, IN
END:VEVENT
END:VCALENDAR
