BEGIN:VCALENDAR
VERSION:2.0
PRODID:-//AudioTheme 2.3.8
BEGIN:VEVENT
UID:urn:uuid:f34e69eb-c917-4fcf-9c6b-0912a283c8bc
URL:https://mitchmcvicker.com/concerts/gig-1611/
DTSTART;VALUE=DATE:20121119
SUMMARY:West Springs Church
LOCATION:West Springs Church\, Ballwin\, MO
END:VEVENT
END:VCALENDAR
