BEGIN:VCALENDAR
VERSION:2.0
PRODID:-//AudioTheme 2.3.8
BEGIN:VEVENT
UID:urn:uuid:9b559863-79fc-4270-a344-2eadec292e9f
URL:https://mitchmcvicker.com/concerts/gig-1609/
DTSTART;VALUE=DATE:20121118
SUMMARY:First Assembly of God
LOCATION:First Assembly of God\, Normal\, IL
END:VEVENT
END:VCALENDAR
