BEGIN:VCALENDAR
VERSION:2.0
PRODID:-//AudioTheme 2.3.8
BEGIN:VEVENT
UID:urn:uuid:1ed8bb7a-bf38-417f-8ef6-7f29d1f4893e
URL:https://mitchmcvicker.com/concerts/gig-1607/
DTSTART;VALUE=DATE:20121118
SUMMARY:West Ridge Community Church
LOCATION:West Ridge Community Church\, Elgin\, IL
END:VEVENT
END:VCALENDAR
