BEGIN:VCALENDAR
VERSION:2.0
PRODID:-//AudioTheme 2.3.8
BEGIN:VEVENT
UID:urn:uuid:dc52f3f3-9de4-462a-ba23-ce3a773b0122
URL:https://mitchmcvicker.com/concerts/gig-1606/
DTSTART;VALUE=DATE:20121117
SUMMARY:Second Saturday Sing/Barn Again Farm
LOCATION:Second Saturday Sing/Barn Again Farm\, Elgin\, IL
END:VEVENT
END:VCALENDAR
