BEGIN:VCALENDAR
VERSION:2.0
PRODID:-//AudioTheme 2.3.8
BEGIN:VEVENT
UID:urn:uuid:78dfbf6b-ccc0-4d2c-805d-36e5074b4add
URL:https://mitchmcvicker.com/concerts/gig-1605/
DTSTART;VALUE=DATE:20121116
SUMMARY:Jesus Fellowship of Believers Church
LOCATION:Jesus Fellowship of Believers Church\, Duluth\, MN
END:VEVENT
END:VCALENDAR
