BEGIN:VCALENDAR
VERSION:2.0
PRODID:-//AudioTheme 2.3.8
BEGIN:VEVENT
UID:urn:uuid:c230e530-d799-4dca-9bf5-5f0f81b3155a
URL:https://mitchmcvicker.com/concerts/gig-1603/
DTSTART;VALUE=DATE:20121115
SUMMARY:University of Wisconsin-Superior/Yellowjacket Union Atrium
LOCATION:University of Wisconsin-Superior/Yellowjacket Union Atrium\, Superior\, WI
END:VEVENT
END:VCALENDAR
