BEGIN:VCALENDAR
VERSION:2.0
PRODID:-//AudioTheme 2.3.8
BEGIN:VEVENT
UID:urn:uuid:a5094306-eb3c-46f6-af6c-953f92850eb1
URL:https://mitchmcvicker.com/concerts/gig-1602/
DTSTART;VALUE=DATE:20121022
SUMMARY:Bethany Lutheran Church
LOCATION:Bethany Lutheran Church\, Star Prairie\, WI
END:VEVENT
END:VCALENDAR
