BEGIN:VCALENDAR
VERSION:2.0
PRODID:-//AudioTheme 2.3.8
BEGIN:VEVENT
UID:urn:uuid:ab259cf0-7314-4fde-92a3-e9acea6fae44
URL:https://mitchmcvicker.com/concerts/gig-1601/
DTSTART;VALUE=DATE:20121021
SUMMARY:South Metro Vineyard Church
LOCATION:South Metro Vineyard Church\, 13798 Parkwood Dr\, Burnsville\, MN\, USA\, 55337
END:VEVENT
END:VCALENDAR
