BEGIN:VCALENDAR
VERSION:2.0
PRODID:-//AudioTheme 2.3.8
BEGIN:VEVENT
UID:urn:uuid:827c627d-19f0-4ea0-9a01-5993fbcbdbce
URL:https://mitchmcvicker.com/concerts/gig-1599/
DTSTART;VALUE=DATE:20121020
SUMMARY:Trinity Christian Fellowship
LOCATION:Trinity Christian Fellowship\, Stanley\, WI
END:VEVENT
END:VCALENDAR
