BEGIN:VCALENDAR
VERSION:2.0
PRODID:-//AudioTheme 2.3.8
BEGIN:VEVENT
UID:urn:uuid:658cf7d2-b770-432a-8a07-3ed24453af0b
URL:https://mitchmcvicker.com/concerts/gig-1597/
DTSTART;VALUE=DATE:20121019
SUMMARY:Oak Grove Bible Church
LOCATION:Oak Grove Bible Church\, East Peoria\, IL
END:VEVENT
END:VCALENDAR
