BEGIN:VCALENDAR
VERSION:2.0
PRODID:-//AudioTheme 2.3.8
BEGIN:VEVENT
UID:urn:uuid:7aa30ee4-692c-4177-9fb6-f7252720d10d
URL:https://mitchmcvicker.com/concerts/gig-1595/
DTSTART;VALUE=DATE:20121018
SUMMARY:Riverside Family Center
LOCATION:Riverside Family Center\, Antwerp\, OH
END:VEVENT
END:VCALENDAR
