BEGIN:VCALENDAR
VERSION:2.0
PRODID:-//AudioTheme 2.3.8
BEGIN:VEVENT
UID:urn:uuid:d7544211-29e5-4163-bd9c-14566610ffc6
URL:https://mitchmcvicker.com/concerts/gig-1593/
DTSTART;VALUE=DATE:20121017
SUMMARY:The Gear Music Venue/Vineyard Church of Franklin
LOCATION:The Gear Music Venue/Vineyard Church of Franklin\, Franklin\, IN
END:VEVENT
END:VCALENDAR
