BEGIN:VCALENDAR
VERSION:2.0
PRODID:-//AudioTheme 2.3.8
BEGIN:VEVENT
UID:urn:uuid:d8012855-5f38-4e55-97d5-6de976545c6a
URL:https://mitchmcvicker.com/concerts/gig-1591/
DTSTART;VALUE=DATE:20121004
SUMMARY:St. Paul Catholic Church
LOCATION:St. Paul Catholic Church\, Valparaiso\, IN
END:VEVENT
END:VCALENDAR
