BEGIN:VCALENDAR
VERSION:2.0
PRODID:-//AudioTheme 2.3.8
BEGIN:VEVENT
UID:urn:uuid:9fa92af0-49b7-4657-afb4-f543a660a53a
URL:https://mitchmcvicker.com/concerts/gig-1589/
DTSTART;VALUE=DATE:20121003
SUMMARY:Muncie Alliance Church
LOCATION:Muncie Alliance Church\, Muncie\, IN
END:VEVENT
END:VCALENDAR
