BEGIN:VCALENDAR
VERSION:2.0
PRODID:-//AudioTheme 2.3.8
BEGIN:VEVENT
UID:urn:uuid:685f39b3-fcbc-4c56-8469-1db4ff49b185
URL:https://mitchmcvicker.com/concerts/gig-1588/
DTSTART;VALUE=DATE:20120923
SUMMARY:Samantha's Lil Bit of Heaven
LOCATION:Samantha's Lil Bit of Heaven\, 287 Larkfield Rd\, East Northport\, NY\, 11731
END:VEVENT
END:VCALENDAR
