BEGIN:VCALENDAR
VERSION:2.0
PRODID:-//AudioTheme 2.3.8
BEGIN:VEVENT
UID:urn:uuid:873ecd4c-21c0-4e5d-a152-ae7579566d4a
URL:https://mitchmcvicker.com/concerts/gig-1587/
DTSTART;VALUE=DATE:20120922
SUMMARY:Grace United Methodist Church
LOCATION:Grace United Methodist Church\, Newburgh\, NY
END:VEVENT
END:VCALENDAR
