BEGIN:VCALENDAR
VERSION:2.0
PRODID:-//AudioTheme 2.3.8
BEGIN:VEVENT
UID:urn:uuid:37ca079b-8181-4f19-9d8f-569ed3c3cc9c
URL:https://mitchmcvicker.com/concerts/gig-1585/
DTSTART;VALUE=DATE:20120921
SUMMARY:Parma Christian Fellowship Church
LOCATION:Parma Christian Fellowship Church\, Hilton\, NY
END:VEVENT
END:VCALENDAR
