BEGIN:VCALENDAR
VERSION:2.0
PRODID:-//AudioTheme 2.3.8
BEGIN:VEVENT
UID:urn:uuid:ba62774a-e1ed-4bbc-893a-9cd6204a8843
URL:https://mitchmcvicker.com/concerts/gig-1583/
DTSTART;VALUE=DATE:20120920
SUMMARY:Sycamore Tree Church
LOCATION:Sycamore Tree Church\, Steubenville\, OH
END:VEVENT
END:VCALENDAR
