BEGIN:VCALENDAR
VERSION:2.0
PRODID:-//AudioTheme 2.3.8
BEGIN:VEVENT
UID:urn:uuid:d930dac9-a5b3-46a9-b133-c5cc853f7bf3
URL:https://mitchmcvicker.com/concerts/gig-1581/
DTSTART;VALUE=DATE:20120919
SUMMARY:Oakwood Forest Christian Church
LOCATION:Oakwood Forest Christian Church\, Kingsport\, TN
END:VEVENT
END:VCALENDAR
