BEGIN:VCALENDAR
VERSION:2.0
PRODID:-//AudioTheme 2.3.8
BEGIN:VEVENT
UID:urn:uuid:6f33e33a-fe3f-4ee2-9f54-55cc1d65ad34
URL:https://mitchmcvicker.com/concerts/gig-1577/
DTSTART;VALUE=DATE:20120821
SUMMARY:Koinania Coffeehouse
LOCATION:Koinania Coffeehouse\, Albuquerque\, NM
END:VEVENT
END:VCALENDAR
