BEGIN:VCALENDAR
VERSION:2.0
PRODID:-//AudioTheme 2.3.8
BEGIN:VEVENT
UID:urn:uuid:ea94c7ea-4080-4bfe-b50b-cd213e9a5381
URL:https://mitchmcvicker.com/concerts/gig-1575/
DTSTART;VALUE=DATE:20120820
SUMMARY:Community Bible Church
LOCATION:Community Bible Church\, Window Rock (Tse Bonito)\, AZ (NM)
END:VEVENT
END:VCALENDAR
