BEGIN:VCALENDAR
VERSION:2.0
PRODID:-//AudioTheme 2.3.8
BEGIN:VEVENT
UID:urn:uuid:10eb1308-241c-4fe8-bf26-16015ffe0d75
URL:https://mitchmcvicker.com/concerts/gig-1574/
DTSTART;VALUE=DATE:20120819
SUMMARY:Grace Church
LOCATION:Grace Church\, Show Low\, AZ
END:VEVENT
END:VCALENDAR
