BEGIN:VCALENDAR
VERSION:2.0
PRODID:-//AudioTheme 2.3.8
BEGIN:VEVENT
UID:urn:uuid:58866b7e-5979-43ba-90dd-465af9a9f855
URL:https://mitchmcvicker.com/concerts/gig-1572/
DTSTART;VALUE=DATE:20120817
SUMMARY:Sycamore Park Community Church
LOCATION:Sycamore Park Community Church\, Farmington\, NM
END:VEVENT
END:VCALENDAR
