BEGIN:VCALENDAR
VERSION:2.0
PRODID:-//AudioTheme 2.3.8
BEGIN:VEVENT
UID:urn:uuid:91bb8e7c-b8e7-484d-a4e5-0e459fe7f08c
URL:https://mitchmcvicker.com/concerts/gig-1570/
DTSTART;VALUE=DATE:20120816
SUMMARY:Desert Springs Church
LOCATION:Desert Springs Church\, Albuquerque\, NM
END:VEVENT
END:VCALENDAR
