BEGIN:VCALENDAR
VERSION:2.0
PRODID:-//AudioTheme 2.3.8
BEGIN:VEVENT
UID:urn:uuid:101abf13-c0f3-4713-aada-195cfe40356b
URL:https://mitchmcvicker.com/concerts/gig-1568/
DTSTART;VALUE=DATE:20120815
SUMMARY:Living Word Family Church
LOCATION:Living Word Family Church\, Deming\, NM
END:VEVENT
END:VCALENDAR
