BEGIN:VCALENDAR
VERSION:2.0
PRODID:-//AudioTheme 2.3.8
BEGIN:VEVENT
UID:urn:uuid:4729a106-48e9-494c-ad89-7a3f4e369358
URL:https://mitchmcvicker.com/concerts/gig-1567/
DTSTART;VALUE=DATE:20120812
SUMMARY:The Mission Church
LOCATION:The Mission Church\, 3001 N 3rd St\, Abilene\, TX\, United States
END:VEVENT
END:VCALENDAR
