BEGIN:VCALENDAR
VERSION:2.0
PRODID:-//AudioTheme 2.3.8
BEGIN:VEVENT
UID:urn:uuid:c5780345-2f3e-4c80-a03b-91e083d6b1f9
URL:https://mitchmcvicker.com/concerts/gig-1565/
DTSTART;VALUE=DATE:20120810
SUMMARY:Renegade Church
LOCATION:Renegade Church\, Victoria\, TX
END:VEVENT
END:VCALENDAR
