BEGIN:VCALENDAR
VERSION:2.0
PRODID:-//AudioTheme 2.3.8
BEGIN:VEVENT
UID:urn:uuid:ed27ee00-4f08-4450-9804-b7f7b1de6a6a
URL:https://mitchmcvicker.com/concerts/gig-1563/
DTSTART;VALUE=DATE:20120809
SUMMARY:Preston Community Church
LOCATION:Preston Community Church\, Pottsboro\, TX
END:VEVENT
END:VCALENDAR
